BEGIN:VCALENDAR
VERSION:2.0
PRODID:-//ChamberMaster//Event Calendar 2.0//EN
METHOD:PUBLISH
X-PUBLISHED-TTL:P3D
REFRESH-INTERVAL:P3D
CALSCALE:GREGORIAN
BEGIN:VEVENT
DTSTART:20201109T230000Z
DTEND:20201117T020000Z
X-MICROSOFT-CDO-ALLDAYEVENT:FALSE
SUMMARY:Public Speaking and Virtual Presentations
DESCRIPTION:Distinguished Toastmaster Tom Dowd will lead a two-part professional development program\, Practical Public Speaking & Virtual Presentations through the University of Maine Hutchinson Center. Nonprofit leaders\, business leaders\, educators\, municipal officials\, members of the clergy and others interested in becoming a more effective speaker are invited to register. Program participants will learn how to relieve the stress associated with speaking publicly\; become skilled in speaking with or without notes\; and support their message most efficiently. They'll learn to think quickly\, speak logically and engage an audience\; use the power of personalized storytelling to increase audience attention\; and understand that we are surrounded by public speaking opportunities.
X-ALT-DESC;FMTTYPE=text/html:Distinguished Toastmaster Tom Dowd will lead a two-part professional development program\, Practical Public Speaking &amp\; Virtual Presentations through the University of Maine Hutchinson Center. Nonprofit leaders\, business leaders\, educators\, municipal officials\, members of the clergy and others interested in becoming a more effective speaker are invited to register. Program participants will learn how to relieve the stress associated with speaking publicly\; become skilled in speaking with or without notes\; and support their message most efficiently. They&rsquo\;ll learn to think quickly\, speak logically and engage an audience\; use the power of personalized storytelling to increase audience attention\; and understand that we are surrounded by public speaking opportunities.
LOCATION:Live via Zoom
UID:e.3098.3423
SEQUENCE:3
DTSTAMP:20260421T025004Z
URL:http://belfastme.chambermaster.com/events/details/public-speaking-and-virtual-presentations-3423
END:VEVENT

END:VCALENDAR
